BEGIN:VCALENDAR
VERSION:2.0
PRODID:-//Pudge&#039;s Pub - ECPv6.15.20//NONSGML v1.0//EN
CALSCALE:GREGORIAN
METHOD:PUBLISH
X-ORIGINAL-URL:https://pudgespub.com
X-WR-CALDESC:Events for Pudge&#039;s Pub
REFRESH-INTERVAL;VALUE=DURATION:PT1H
X-Robots-Tag:noindex
X-PUBLISHED-TTL:PT1H
BEGIN:VTIMEZONE
TZID:America/New_York
BEGIN:DAYLIGHT
TZOFFSETFROM:-0500
TZOFFSETTO:-0400
TZNAME:EDT
DTSTART:20250309T070000
END:DAYLIGHT
BEGIN:STANDARD
TZOFFSETFROM:-0400
TZOFFSETTO:-0500
TZNAME:EST
DTSTART:20251102T060000
END:STANDARD
BEGIN:DAYLIGHT
TZOFFSETFROM:-0500
TZOFFSETTO:-0400
TZNAME:EDT
DTSTART:20260308T070000
END:DAYLIGHT
BEGIN:STANDARD
TZOFFSETFROM:-0400
TZOFFSETTO:-0500
TZNAME:EST
DTSTART:20261101T060000
END:STANDARD
BEGIN:DAYLIGHT
TZOFFSETFROM:-0500
TZOFFSETTO:-0400
TZNAME:EDT
DTSTART:20270314T070000
END:DAYLIGHT
BEGIN:STANDARD
TZOFFSETFROM:-0400
TZOFFSETTO:-0500
TZNAME:EST
DTSTART:20271107T060000
END:STANDARD
END:VTIMEZONE
BEGIN:VTIMEZONE
TZID:UTC
BEGIN:STANDARD
TZOFFSETFROM:+0000
TZOFFSETTO:+0000
TZNAME:UTC
DTSTART:20250101T000000
END:STANDARD
END:VTIMEZONE
BEGIN:VEVENT
DTSTART;TZID=America/New_York:20260214T160000
DTEND;TZID=America/New_York:20260214T220000
DTSTAMP:20260421T223749
CREATED:20260105T224352Z
LAST-MODIFIED:20260109T163318Z
UID:3544-1771084800-1771106400@pudgespub.com
SUMMARY:Valentine's Day 2026
DESCRIPTION:Celebrate love with an intimate\, cozy Valentine’s Day dinner at Pudge’s Pub ❤️\n\n\nWe’ll be offering a special prix fixe menu with multiple options\, thoughtfully crafted for a memorable night out.\n\n\n\nWhat to expect:\n\n\n• Reservations only\n\n\n• A beautiful prix fixe menu with choices ($65 per person)\n\n\n• Drinks à la carte\n\n\n• Warm\, romantic vibes perfect for date night\n\n\n \n\n\nWhether you’re planning a classic Valentine’s dinner or just want a relaxed\, elevated evening with great food and drinks\, we’ve got you covered.\n\n\n \n\n\n💌 Reservations are required and can be booked here: BOOK NOW\n\n\n \n\n\nSpots are limited — reserve early and let us take care of the rest.
URL:https://pudgespub.com/event/valentines-day-2026/
LOCATION:Pudge’s Pub\, 34 N Burlington Street\, Gloucester City\, NJ\, 08057\, United States
CATEGORIES:Everything
END:VEVENT
BEGIN:VEVENT
DTSTART;TZID=UTC:20260423T183000
DTEND;TZID=UTC:20260423T210000
DTSTAMP:20260421T223749
CREATED:20260415T144559Z
LAST-MODIFIED:20260415T144835Z
UID:3706-1776969000-1776978000@pudgespub.com
SUMMARY:Spring Wine Dinner
DESCRIPTION:Join us for an unforgettable evening of fine wine\, exceptional cuisine\, and great company at our exclusive Wine Dinner. This intimate\, four-course experience is thoughtfully curated to pair each dish with a perfectly matched wine\, enhancing every flavor along the way.Throughout the evening\, you’ll be guided through each pairing with light\, engaging insights into the wines—making it not only delicious\, but educational as well. Whether you’re a seasoned wine lover or just looking for a unique night out\, this event offers the perfect balance of sophistication and fun. \nExpect a relaxed\, welcoming atmosphere\, beautifully prepared dishes\, and wines that truly elevate the experience. Seating is limited to maintain an intimate setting\, so be sure to reserve your spot early. \nGreat wine\, great food\, and an even better experience—this is a night you won’t want to miss. \n\n\n\n\n\nWhat to expect:\n\n\n• Reservations Only (Starts @ 6:30 sharp)\n\n\n• A beautiful prix fixe menu ($65 per person)\n\n\n• Warm\, romantic vibes perfect for date night\n\n\n \n\n\n💌 Reservations are required. Call now to book 609-410-6862\n\n\n \n\n\nSpots are limited — reserve early and let us take care of the rest.
URL:https://pudgespub.com/event/spring-wine-dinner/
LOCATION:Pudge’s Pub\, 34 N Burlington Street\, Gloucester City\, NJ\, 08057\, United States
END:VEVENT
END:VCALENDAR