BEGIN:VCALENDAR
VERSION:2.0
PRODID:-//Pudge&#039;s Pub - ECPv6.15.20//NONSGML v1.0//EN
CALSCALE:GREGORIAN
METHOD:PUBLISH
X-WR-CALNAME:Pudge&#039;s Pub
X-ORIGINAL-URL:https://pudgespub.com
X-WR-CALDESC:Events for Pudge&#039;s Pub
REFRESH-INTERVAL;VALUE=DURATION:PT1H
X-Robots-Tag:noindex
X-PUBLISHED-TTL:PT1H
BEGIN:VTIMEZONE
TZID:UTC
BEGIN:STANDARD
TZOFFSETFROM:+0000
TZOFFSETTO:+0000
TZNAME:UTC
DTSTART:20240101T000000
END:STANDARD
END:VTIMEZONE
BEGIN:VEVENT
DTSTART;TZID=UTC:20251203T170000
DTEND;TZID=UTC:20251203T200000
DTSTAMP:20260421T205012
CREATED:20251202T164449Z
LAST-MODIFIED:20251202T182329Z
UID:3333-1764781200-1764792000@pudgespub.com
SUMMARY:Buck a Shuck 12.03.25
DESCRIPTION:Join us for Buck-A-Shuck Night on Wednesday from 5-8pm. Offering Goodies & Malpeques. *Dine in only
URL:https://pudgespub.com/event/buck-a-shuck-12-03-25/
LOCATION:Pudge’s Pub\, 34 N Burlington Street\, Gloucester City\, NJ\, 08057\, United States
CATEGORIES:Everything,Food Specials
ATTACH;FMTTYPE=image/jpeg:https://pudgespub.com/wp-content/uploads/2025/12/Buck-A-Shuck-Oysters-scaled.jpg
END:VEVENT
END:VCALENDAR